BEGIN:VCALENDAR
VERSION:2.0
PRODID:-//Trione Vineyards and Winery - ECPv6.15.20//NONSGML v1.0//EN
CALSCALE:GREGORIAN
METHOD:PUBLISH
X-ORIGINAL-URL:https://trionewinery.com
X-WR-CALDESC:Events for Trione Vineyards and Winery
REFRESH-INTERVAL;VALUE=DURATION:PT1H
X-Robots-Tag:noindex
X-PUBLISHED-TTL:PT1H
BEGIN:VTIMEZONE
TZID:America/Los_Angeles
BEGIN:DAYLIGHT
TZOFFSETFROM:-0800
TZOFFSETTO:-0700
TZNAME:PDT
DTSTART:20230312T100000
END:DAYLIGHT
BEGIN:STANDARD
TZOFFSETFROM:-0700
TZOFFSETTO:-0800
TZNAME:PST
DTSTART:20231105T090000
END:STANDARD
BEGIN:DAYLIGHT
TZOFFSETFROM:-0800
TZOFFSETTO:-0700
TZNAME:PDT
DTSTART:20240310T100000
END:DAYLIGHT
BEGIN:STANDARD
TZOFFSETFROM:-0700
TZOFFSETTO:-0800
TZNAME:PST
DTSTART:20241103T090000
END:STANDARD
BEGIN:DAYLIGHT
TZOFFSETFROM:-0800
TZOFFSETTO:-0700
TZNAME:PDT
DTSTART:20250309T100000
END:DAYLIGHT
BEGIN:STANDARD
TZOFFSETFROM:-0700
TZOFFSETTO:-0800
TZNAME:PST
DTSTART:20251102T090000
END:STANDARD
BEGIN:DAYLIGHT
TZOFFSETFROM:-0800
TZOFFSETTO:-0700
TZNAME:PDT
DTSTART:20260308T100000
END:DAYLIGHT
BEGIN:STANDARD
TZOFFSETFROM:-0700
TZOFFSETTO:-0800
TZNAME:PST
DTSTART:20261101T090000
END:STANDARD
BEGIN:DAYLIGHT
TZOFFSETFROM:-0800
TZOFFSETTO:-0700
TZNAME:PDT
DTSTART:20270314T100000
END:DAYLIGHT
BEGIN:STANDARD
TZOFFSETFROM:-0700
TZOFFSETTO:-0800
TZNAME:PST
DTSTART:20271107T090000
END:STANDARD
END:VTIMEZONE
BEGIN:VEVENT
DTSTART;TZID=America/Los_Angeles:20260411T110000
DTEND;TZID=America/Los_Angeles:20260411T160000
DTSTAMP:20260418T104104
CREATED:20250117T225614Z
LAST-MODIFIED:20260121T215914Z
UID:5979-1775905200-1775923200@trionewinery.com
SUMMARY:Taste Destination 128 | Wine & Cheese Trail
DESCRIPTION:Join the wineries of Taste Destination 128 for a day of Wine & Cheese!\n\nTravel to seven premier wineries along the scenic Alexander Valley wine trail and savor the bounty of Sonoma County. Locally sourced artisan cheese and a full charcuterie spread paired with an array of hand selected wines will be offered at each winery. This is your opportunity to take advantage of event-only specials and enjoy a decadent day in the heart of the Alexander Valley!\n\nTicket price includes your wristband\, a keepsake Taste Destination 128 wine glass and complimentary wine\, cheese & charcuterie tasting at each winery. It promises to be a day full of food\, fun and great wine. We hope to see you there!\n\nTicket prices start at $60 per person with special pricing for wine club members and designated drivers. Purchase tickets HERE.
URL:https://trionewinery.com/event/taste-destination-128-wine-and-cheese-trail/
CATEGORIES:Club & Public Events
ATTACH;FMTTYPE=image/jpeg:https://trionewinery.com/wp-content/uploads/2025/01/Trione-WWL_01-18-15_2702_edited-1-scaled-e1737154329663.jpg
END:VEVENT
BEGIN:VEVENT
DTSTART;VALUE=DATE:20260319
DTEND;VALUE=DATE:20260324
DTSTAMP:20260418T104104
CREATED:20260127T212843Z
LAST-MODIFIED:20260127T212843Z
UID:6410-1773878400-1774310399@trionewinery.com
SUMMARY:Spring Vineyard Walk
DESCRIPTION:Enjoy a complimentary guided walk through waking vines to celebrate the Spring Equinox! Afterwards you can opt into an Estate Wine Flight ($30) for a tasting that showcases contrast and harmony — light to bold\, bright to rich. No Reservations Required!
URL:https://trionewinery.com/event/spring-vineyard-walk/
CATEGORIES:Club & Public Events
ATTACH;FMTTYPE=image/jpeg:https://trionewinery.com/wp-content/uploads/2026/01/iStock-2257420681.jpg
END:VEVENT
BEGIN:VEVENT
DTSTART;TZID=America/Los_Angeles:20260307T120000
DTEND;TZID=America/Los_Angeles:20260307T150000
DTSTAMP:20260418T104104
CREATED:20250117T223809Z
LAST-MODIFIED:20260220T201527Z
UID:5966-1772884800-1772895600@trionewinery.com
SUMMARY:Member Release Party
DESCRIPTION:We invite you to enjoy an exclusive club member wine tasting event featuring our newly released wines served alongside delicious food. Complimentary for wine club members + two guests. Reserve HERE
URL:https://trionewinery.com/event/member-release-party-5/
CATEGORIES:Club & Public Events,Wine Club
ATTACH;FMTTYPE=image/jpeg:https://trionewinery.com/wp-content/uploads/2025/01/AK4-_-Trione-Family-Dinner-with-Diavola-_-019-e1737153401915.jpg
END:VEVENT
BEGIN:VEVENT
DTSTART;TZID=America/Los_Angeles:20260222T113000
DTEND;TZID=America/Los_Angeles:20260222T153000
DTSTAMP:20260418T104104
CREATED:20260126T170043Z
LAST-MODIFIED:20260210T223228Z
UID:5952-1771759800-1771774200@trionewinery.com
SUMMARY:Member for a Day - Club Crossover Event
DESCRIPTION:TICKETS AVAILABLE NOW for a MEMBER EXCLUSIVE event to enjoy wine tastings and member benefits at Trione Winery\, Trentadue Winery\, and Francis Ford Coppola Winery! \nTickets are extremely limited\, so act fast! Click HERE to reserve your spot! \nYour ticket unlocks a day of signature tastings at three iconic wineries\, exclusive member discounts\, and the opportunity to connect with wine enthusiasts across all three winery properties. \nTickets are complimentary\, by advanced reservation only.Each membership is allocated up to a total of 2 tickets.One ticket must be reserved for each guest\, which grants access to all three winery tastings.On the day of the event\, we’ll have you on a shared guest list\, so you can check-in at any of the three wineries. \n 
URL:https://trionewinery.com/event/member-for-a-day-2025/
CATEGORIES:Club & Public Events,Wine Club
ATTACH;FMTTYPE=image/jpeg:https://trionewinery.com/wp-content/uploads/2026/01/Club-Crossover-Banner-Image_2026.jpg
END:VEVENT
BEGIN:VEVENT
DTSTART;VALUE=DATE:20260212
DTEND;VALUE=DATE:20260217
DTSTAMP:20260418T104104
CREATED:20260127T213052Z
LAST-MODIFIED:20260127T213052Z
UID:6413-1770854400-1771286399@trionewinery.com
SUMMARY:Indulgence Wine Flight
DESCRIPTION:Settle in and treat yourself to a curated tasting experience featuring four of our signature red wines\, thoughtfully paired with everyday sweet treats that bring out each wine’s rich character. From velvety sips to nostalgic bites\, this relaxed and delicious flight is all about savoring life’s simple pleasures — great wine\, good company\, and a little something sweet. No Reservations Required!
URL:https://trionewinery.com/event/indulgence-wine-flight/
CATEGORIES:Club & Public Events
ATTACH;FMTTYPE=image/jpeg:https://trionewinery.com/wp-content/uploads/2026/01/iStock-2254654067_Sq-Crop.jpg
END:VEVENT
BEGIN:VEVENT
DTSTART;TZID=America/Los_Angeles:20251213T110000
DTEND;TZID=America/Los_Angeles:20251213T133000
DTSTAMP:20260418T104104
CREATED:20250227T002930Z
LAST-MODIFIED:20251017T184531Z
UID:6082-1765623600-1765632600@trionewinery.com
SUMMARY:Winemaker Series | Barrel Demonstration - SOLD OUT
DESCRIPTION:Take a rare peek behind the curtain of the winemaking process in this immersive session of our Winemaker Series\, featuring Trione winemaker John Duckett and the skilled artisans from Cooperages 1912.\n\nBarrels are more than just vessels—they shape the character\, texture\, and flavor of the wine itself. During this live demonstration\, you’ll witness the fascinating craft of barrel making up close\, while learning about the sourcing of oak\, differences between coopers\, and how winemakers like John select the perfect barrels to complement each varietal.\n\nBOOK NOW
URL:https://trionewinery.com/event/winemaker-series-barrel-demonstration/
CATEGORIES:Club & Public Events
ATTACH;FMTTYPE=image/png:https://trionewinery.com/wp-content/uploads/2025/02/DecWinemaker.png
END:VEVENT
BEGIN:VEVENT
DTSTART;TZID=America/Los_Angeles:20251108T110000
DTEND;TZID=America/Los_Angeles:20251108T133000
DTSTAMP:20260418T104104
CREATED:20250226T234201Z
LAST-MODIFIED:20251017T184543Z
UID:6069-1762599600-1762608600@trionewinery.com
SUMMARY:Winemaker Series | Aroma Sensory & Blind Tasting - SOLD OUT
DESCRIPTION:Sharpen your senses and explore the mysterious world of wine aromas in the third session of our Winemaker Series with Trione’s winemaker\, John Duckett.\n\nThis unique behind-the-scenes experience invites guests to dive deep into the elements that define a wine’s identity. Begin with an aroma sensory workshop designed to train your nose\, heighten your awareness\, and reveal the often-overlooked complexities in every glass. Then\, put your palate to the test with a guided blind tasting—no labels\, no hints\, just your senses leading the way.\n\nBOOK NOW
URL:https://trionewinery.com/event/winemaker-series-aroma-sensory-blind-tasting/
CATEGORIES:Club & Public Events
ATTACH;FMTTYPE=image/png:https://trionewinery.com/wp-content/uploads/2025/02/Nov-Winemaker.png
END:VEVENT
BEGIN:VEVENT
DTSTART;TZID=America/Los_Angeles:20251017T063000
DTEND;TZID=America/Los_Angeles:20251017T203000
DTSTAMP:20260418T104104
CREATED:20250226T232102Z
LAST-MODIFIED:20250226T233808Z
UID:6059-1760682600-1760733000@trionewinery.com
SUMMARY:Trivia Night
DESCRIPTION:Enjoy a glass or bottle while Trione hosts HeadGames Trivia\, general knowledge trivia combining movie clips\, sound effects\, pictures and popular music to give players a one-of-a-kind experience.\n\nNo cost to play. BOOK NOW
URL:https://trionewinery.com/event/trivia-night-4/
CATEGORIES:Club & Public Events
ATTACH;FMTTYPE=image/png:https://trionewinery.com/wp-content/uploads/2024/12/Trivia-Wall-rect-e1737154778575.png
END:VEVENT
BEGIN:VEVENT
DTSTART;TZID=America/Los_Angeles:20251004T160000
DTEND;TZID=America/Los_Angeles:20251004T190000
DTSTAMP:20260418T104104
CREATED:20240215T204333Z
LAST-MODIFIED:20250815T231019Z
UID:5443-1759593600-1759604400@trionewinery.com
SUMMARY:Harvest Celebration
DESCRIPTION:Join us on the vineyard lawn at dusk as we toast the close of harvest with an evening of great wine\, delicious food\, and festive competition. This year\, we’re keeping it casual and fun—perfect for gathering with friends\, family\, and fellow wine lovers.\n\nEnjoy live music from local favorite Jacob Philip Benning\, and savor a hearty meal from The Wurst\, included with your ticket along with your first glass of Trione wine. Additional wine will be available for purchase by the glass or bottle.\n\n$35/person\n\nBUY TICKETS
URL:https://trionewinery.com/event/harvest-celebration-dinner-under-the-stars/
CATEGORIES:Club & Public Events
ATTACH;FMTTYPE=image/jpeg:https://trionewinery.com/wp-content/uploads/2024/02/Harvest-Celebration-Banner_2025.jpg
END:VEVENT
BEGIN:VEVENT
DTSTART;TZID=America/Los_Angeles:20250823T110000
DTEND;TZID=America/Los_Angeles:20250823T160000
DTSTAMP:20260418T104104
CREATED:20240712T234418Z
LAST-MODIFIED:20250226T234506Z
UID:5878-1755946800-1755964800@trionewinery.com
SUMMARY:Taste Destination 128 | BBQ Cookoff
DESCRIPTION:The wineries of Taste Destination 128 invite you to join us for an afternoon of Wine and BBQ in beautiful Alexander Valley! Visit seven premier wineries along the Highway 128 wine trail to savor mouthwatering BBQ dishes paired perfectly with their wine. LEARN MORE\n\nYour ticket includes a wristband\, a keepsake Taste Destination 128 wineglass\, plus wine & BBQ tastings at each winery. Join us for an afternoon filled with food\, fun\, and excellent wine. We look forward to seeing you there!\n\n 
URL:https://trionewinery.com/event/taste-destination-128-bbq-cookoff/
CATEGORIES:Club & Public Events
ATTACH;FMTTYPE=image/jpeg:https://trionewinery.com/wp-content/uploads/2024/07/cab-academy-may21-60-scaled-e1740611177517.jpg
END:VEVENT
BEGIN:VEVENT
DTSTART;TZID=America/Los_Angeles:20250727T100000
DTEND;TZID=America/Los_Angeles:20250727T120000
DTSTAMP:20260418T104104
CREATED:20250627T172336Z
LAST-MODIFIED:20250627T172336Z
UID:6269-1753610400-1753617600@trionewinery.com
SUMMARY:Yoga in the Vineyard
DESCRIPTION:Unwind in wine country with Yoga6 in the Vines at Trione Winery. Set against the backdrop of our scenic Geyserville estate\, this rejuvenating session is designed for all experience levels. Flow through a guided yoga class surrounded by vineyard views\, then enjoy light brunch bites and a complimentary glass of Trione wine in our historic Old Stone Building. \nWhether you’re a seasoned yogi or just looking for a unique way to connect with nature and good wine\, this experience offers the perfect balance of movement\, mindfulness\, and indulgence. \nParticipants must be 21+ to enjoy wine. Please bring your yoga mat and water bottle. \nUse promo code SRWS10 to receive exclusive member pricing at checkout. \n$35 per person \nBOOK NOW
URL:https://trionewinery.com/event/yoga-in-the-vineyard-2/
CATEGORIES:Club & Public Events
ATTACH;FMTTYPE=image/png:https://trionewinery.com/wp-content/uploads/2025/06/Yoga-Banner.png
END:VEVENT
BEGIN:VEVENT
DTSTART;TZID=America/Los_Angeles:20250718T180000
DTEND;TZID=America/Los_Angeles:20250718T210000
DTSTAMP:20260418T104104
CREATED:20250117T232627Z
LAST-MODIFIED:20250226T233751Z
UID:6005-1752861600-1752872400@trionewinery.com
SUMMARY:Trivia Night
DESCRIPTION:Enjoy a glass or bottle while Trione hosts HeadGames Trivia\, general knowledge trivia combining movie clips\, sound effects\, pictures and popular music to give players a one-of-a-kind experience.\n\nNo cost to play. BOOK NOW
URL:https://trionewinery.com/event/trivia-night-3/
CATEGORIES:Club & Public Events
ATTACH;FMTTYPE=image/png:https://trionewinery.com/wp-content/uploads/2024/12/Trivia-Wall-rect-e1737154778575.png
END:VEVENT
BEGIN:VEVENT
DTSTART;TZID=America/Los_Angeles:20250712T110000
DTEND;TZID=America/Los_Angeles:20250712T133000
DTSTAMP:20260418T104104
CREATED:20250117T232422Z
LAST-MODIFIED:20250619T214633Z
UID:6002-1752318000-1752327000@trionewinery.com
SUMMARY:Winemaker Series | Blending Seminar
DESCRIPTION:Join Trione winemaker John Duckett in this unique behind-the-scenes experience.\n\nThis immersive experience invites you behind the scenes to explore the most creative (and fun!) part of winemaking: blending.\n\nYou’ll taste\, experiment\, and craft your own custom blend while learning how John and Trione approach balance\, structure\, and flavor in every vintage.\n\nDon’t miss this rare opportunity to learn from a master of the craft and deepen your appreciation for the artistry behind every bottle.\n\nBOOK NOW
URL:https://trionewinery.com/event/winemaker-series-blending-seminar/
CATEGORIES:Club & Public Events
ATTACH;FMTTYPE=image/png:https://trionewinery.com/wp-content/uploads/2025/01/July-Winemaker.png
END:VEVENT
BEGIN:VEVENT
DTSTART;TZID=America/Los_Angeles:20250626T170000
DTEND;TZID=America/Los_Angeles:20250626T193000
DTSTAMP:20260418T104104
CREATED:20250117T231813Z
LAST-MODIFIED:20250117T231813Z
UID:5998-1750957200-1750966200@trionewinery.com
SUMMARY:Bocce Ball Battles
DESCRIPTION:Get ready to kick off your June evenings with our Bocce Ball Battles “Tournaments”! All June long gather your friends and join us each Thursday from 5pm to 7:30pm for an unforgettable experience on the bocce court.\n\nBring your competitive spirit as teams of up to four players face off in friendly matches while enjoying the warm summer breeze and beautiful vineyard.\n\nQuench your thirst with our selection of wines\, available by the glass or by the bottle\, perfectly paired to complement the excitement of the game.\n\nWhether you’re a seasoned player or brand new to the sport\, our Bocce Ball Battles “Tournaments” promise an evening of fun\, laughter\, and memories to cherish. Gather your team and join us for a summer of bocce and bliss!\n\nRegister HERE
URL:https://trionewinery.com/event/bocce-ball-battles-4/
CATEGORIES:Club & Public Events
ATTACH;FMTTYPE=image/jpeg:https://trionewinery.com/wp-content/uploads/2025/01/img_9122_720-e1737155565733.jpg
END:VEVENT
BEGIN:VEVENT
DTSTART;TZID=America/Los_Angeles:20250619T170000
DTEND;TZID=America/Los_Angeles:20250619T193000
DTSTAMP:20260418T104104
CREATED:20250117T231645Z
LAST-MODIFIED:20250117T231645Z
UID:5996-1750352400-1750361400@trionewinery.com
SUMMARY:Bocce Ball Battles
DESCRIPTION:Get ready to kick off your June evenings with our Bocce Ball Battles “Tournaments”! All June long gather your friends and join us each Thursday from 5pm to 7:30pm for an unforgettable experience on the bocce court.\n\nBring your competitive spirit as teams of up to four players face off in friendly matches while enjoying the warm summer breeze and beautiful vineyard.\n\nQuench your thirst with our selection of wines\, available by the glass or by the bottle\, perfectly paired to complement the excitement of the game.\n\nWhether you’re a seasoned player or brand new to the sport\, our Bocce Ball Battles “Tournaments” promise an evening of fun\, laughter\, and memories to cherish. Gather your team and join us for a summer of bocce and bliss!\n\nRegister HERE
URL:https://trionewinery.com/event/bocce-ball-battles-3/
CATEGORIES:Club & Public Events
ATTACH;FMTTYPE=image/jpeg:https://trionewinery.com/wp-content/uploads/2025/01/img_9122_720-e1737155565733.jpg
END:VEVENT
BEGIN:VEVENT
DTSTART;TZID=America/Los_Angeles:20250614T110000
DTEND;TZID=America/Los_Angeles:20250614T133000
DTSTAMP:20260418T104104
CREATED:20250117T232230Z
LAST-MODIFIED:20250501T175930Z
UID:6000-1749898800-1749907800@trionewinery.com
SUMMARY:Winemaker Series | Vineyard Demonstration
DESCRIPTION:Discover the heart of winemaking in this exclusive behind-the-scenes experience led by Trione Winemaker John Duckett. Immerse yourself in the vineyard as John showcases the art of grape growing—from soil health and vine management to the meticulous care that ensures exceptional fruit. Gain insight into how Trione’s sustainable practices shape every vintage and define the character of our wines.\n\nDon’t miss this rare opportunity to walk the vineyard rows with the winemaker\, deepen your connection to the craft\, and experience the foundation of every bottle of Trione wine.\n\nBOOK NOW
URL:https://trionewinery.com/event/winemaker-series-vineyard-demonstration/
CATEGORIES:Club & Public Events
ATTACH;FMTTYPE=image/jpeg:https://trionewinery.com/wp-content/uploads/2024/02/IMG_5665-scaled-e1708625506504.jpg
END:VEVENT
BEGIN:VEVENT
DTSTART;TZID=America/Los_Angeles:20250605T170000
DTEND;TZID=America/Los_Angeles:20250605T193000
DTSTAMP:20260418T104104
CREATED:20250117T231318Z
LAST-MODIFIED:20250117T231913Z
UID:5991-1749142800-1749151800@trionewinery.com
SUMMARY:Bocce Ball Battles
DESCRIPTION:Get ready to kick off your June evenings with our Bocce Ball Battles “Tournaments”! All June long gather your friends and join us each Thursday from 5pm to 7:30pm for an unforgettable experience on the bocce court.\n\nBring your competitive spirit as teams of up to four players face off in friendly matches while enjoying the warm summer breeze and beautiful vineyard.\n\nQuench your thirst with our selection of wines\, available by the glass or by the bottle\, perfectly paired to complement the excitement of the game.\n\nWhether you’re a seasoned player or brand new to the sport\, our Bocce Ball Battles “Tournaments” promise an evening of fun\, laughter\, and memories to cherish. Gather your team and join us for a summer of bocce and bliss!\n\nRegister HERE
URL:https://trionewinery.com/event/bocce-ball-battles/
CATEGORIES:Club & Public Events
ATTACH;FMTTYPE=image/jpeg:https://trionewinery.com/wp-content/uploads/2025/01/img_9122_720-e1737155565733.jpg
END:VEVENT
BEGIN:VEVENT
DTSTART;TZID=America/Los_Angeles:20250511T100000
DTEND;TZID=America/Los_Angeles:20250511T113000
DTSTAMP:20260418T104104
CREATED:20250416T215157Z
LAST-MODIFIED:20250501T180054Z
UID:6209-1746957600-1746963000@trionewinery.com
SUMMARY:Yoga in the Vineyard
DESCRIPTION:Treat Mom to an Unforgettable Mother’s Day! \nJoin us at Trione Winery in the stunning Alexander Valley for a one‑of‑a‑kind celebration. Flow through breath‑linked movements amidst vineyard views-perfect for every experience level. Savor a glass of Trione’s finest wines paired with brunch bites in our historic Old Stone Building. Please remember to bring your yoga mat and water bottle.  \nSpaces are limited-reserve your spots for you and your mom today! We can’t wait to share this beautiful blend of wellness and indulgence with you. Members: Use promo code SRWS10 to redeem your special price \nBOOK NOW
URL:https://trionewinery.com/event/yoga-in-the-vineyard/
CATEGORIES:Club & Public Events
ATTACH;FMTTYPE=image/jpeg:https://trionewinery.com/wp-content/uploads/2025/04/Yoga-Six-Trione-Winery-Mothers-Day-Flyer-e1744840195340.jpg
END:VEVENT
BEGIN:VEVENT
DTSTART;TZID=America/Los_Angeles:20250425T183000
DTEND;TZID=America/Los_Angeles:20250425T210000
DTSTAMP:20260418T104104
CREATED:20250117T230549Z
LAST-MODIFIED:20250314T171726Z
UID:5986-1745605800-1745614800@trionewinery.com
SUMMARY:Spring in the Vines | A Trione Tradition
DESCRIPTION:Gather with the Trione Family at the winery for a memorable evening featuring a traditional pig roast\, slow-cooked to perfection by Sweet T’s and paired with our handcrafted estate wines. This festive dinner will be set in the heart of Alexander Valley\, where you’ll enjoy the rustic elegance of our Historic Old Stone Building as the backdrop for a night filled with great food\, wine\, and company.\n\nRESERVATIONS
URL:https://trionewinery.com/event/wine-dine-family-dinner/
CATEGORIES:Club & Public Events
ATTACH;FMTTYPE=image/jpeg:https://trionewinery.com/wp-content/uploads/2025/01/Tablescape-Top-Down-with-bottle-scaled-e1737155097795.jpg
END:VEVENT
BEGIN:VEVENT
DTSTART;TZID=America/Los_Angeles:20250418T180000
DTEND;TZID=America/Los_Angeles:20250418T210000
DTSTAMP:20260418T104104
CREATED:20250117T230001Z
LAST-MODIFIED:20250226T233721Z
UID:5984-1744999200-1745010000@trionewinery.com
SUMMARY:Trivia Night
DESCRIPTION:Enjoy a glass or bottle while Trione hosts HeadGames Trivia\, general knowledge trivia combining movie clips\, sound effects\, pictures and popular music to give players a one-of-a-kind experience.\n\nNo cost to play. BOOK NOW
URL:https://trionewinery.com/event/trivia-night-2/
CATEGORIES:Club & Public Events
ATTACH;FMTTYPE=image/png:https://trionewinery.com/wp-content/uploads/2024/12/Trivia-Wall-rect-e1737154778575.png
END:VEVENT
BEGIN:VEVENT
DTSTART;VALUE=DATE:20250123
DTEND;VALUE=DATE:20250128
DTSTAMP:20260418T104104
CREATED:20250117T220031Z
LAST-MODIFIED:20250117T224619Z
UID:5963-1737590400-1738022399@trionewinery.com
SUMMARY:Library Wine Week
DESCRIPTION:All library wines all week long\, with exclusive membership wine specials on vintages as far back as 2008.\n\nLimited supply library wines will be available to sample and to purchase! Reserve your table HERE
URL:https://trionewinery.com/event/library-wine-week/
CATEGORIES:Club & Public Events
ATTACH;FMTTYPE=image/jpeg:https://trionewinery.com/wp-content/uploads/2025/01/cab-academy-may21-54-e1737153836352.jpg
END:VEVENT
BEGIN:VEVENT
DTSTART;TZID=America/Los_Angeles:20250118T110000
DTEND;TZID=America/Los_Angeles:20250119T160000
DTSTAMP:20260418T104104
CREATED:20241203T225338Z
LAST-MODIFIED:20241204T003309Z
UID:5946-1737198000-1737302400@trionewinery.com
SUMMARY:Winter Wineland – Wine Road Annual Event
DESCRIPTION:Join us for two glorious days along the Wine Road for the 32nd Annual Winter WINEland …The perfect winter escape to taste current releases\, exciting varietals\, and experience the beauty of Winter in Sonoma County.\n\nPURCHASE TICKETS
URL:https://trionewinery.com/event/winter-wineland-wine-road-annual-event/
CATEGORIES:Club & Public Events
ATTACH;FMTTYPE=image/png:https://trionewinery.com/wp-content/uploads/2024/12/Winter-Wineland-2025.png
END:VEVENT
BEGIN:VEVENT
DTSTART;TZID=America/Los_Angeles:20250117T180000
DTEND;TZID=America/Los_Angeles:20250117T203000
DTSTAMP:20260418T104104
CREATED:20241203T175035Z
LAST-MODIFIED:20250117T215159Z
UID:5942-1737136800-1737145800@trionewinery.com
SUMMARY:Trivia Night
DESCRIPTION:Enjoy a glass or bottle while Trione Winery hosts HeadGames Trivia\, general knowledge trivia combining movie clips\, sound effects\, pictures and popular music to give players a one-of-a-kind experience.\n\nNo cost to play. BOOK NOW
URL:https://trionewinery.com/event/trivia-night/
CATEGORIES:Club & Public Events
ATTACH;FMTTYPE=image/png:https://trionewinery.com/wp-content/uploads/2024/12/Trivia-Wall-rect-e1737154778575.png
END:VEVENT
BEGIN:VEVENT
DTSTART;TZID=America/Los_Angeles:20241109T120000
DTEND;TZID=America/Los_Angeles:20241109T150000
DTSTAMP:20260418T104104
CREATED:20240215T022621Z
LAST-MODIFIED:20240215T022805Z
UID:5422-1731153600-1731164400@trionewinery.com
SUMMARY:Member Release Party
DESCRIPTION:Savor our newest releases expertly paired with amazing local cuisine and immerse yourself in the ambiance of our vineyard estate.\n\nComplimentary for wine club members + four guests.\n\nRSVP Here
URL:https://trionewinery.com/event/member-release-party-4/
CATEGORIES:Club & Public Events
ATTACH;FMTTYPE=image/jpeg:https://trionewinery.com/wp-content/uploads/2024/02/Fall-Wine-Event.jpg
END:VEVENT
BEGIN:VEVENT
DTSTART;TZID=America/Los_Angeles:20240914T120000
DTEND;TZID=America/Los_Angeles:20240914T150000
DTSTAMP:20260418T104104
CREATED:20240215T021844Z
LAST-MODIFIED:20240215T021844Z
UID:5413-1726315200-1726326000@trionewinery.com
SUMMARY:Member Release Party
DESCRIPTION:We invite you to enjoy an exclusive wine tasting event featuring our newly released wines served alongside delicious food. Complimentary for wine club members + two guests.\n\nRSVP Here
URL:https://trionewinery.com/event/member-release-party-3/
CATEGORIES:Club & Public Events
ATTACH;FMTTYPE=image/jpeg:https://trionewinery.com/wp-content/uploads/2023/08/DSC_0128.NEF_-scaled-e1707961978309.jpg
END:VEVENT
BEGIN:VEVENT
DTSTART;TZID=America/Los_Angeles:20240810T110000
DTEND;TZID=America/Los_Angeles:20240810T133000
DTSTAMP:20260418T104104
CREATED:20240304T184626Z
LAST-MODIFIED:20240806T185948Z
UID:5617-1723287600-1723296600@trionewinery.com
SUMMARY:Summer Winemaker Series | Aroma Sensory & Blind Tasting
DESCRIPTION:SOLD OUT Join Trione winemaker John Duckett in this unique behind-the-scenes experience. Our final session will explore the nuances of aroma sensory and take you on a journey through blind tasting.
URL:https://trionewinery.com/event/summer-winemaker-series-blind-tasting/
CATEGORIES:Club & Public Events
ATTACH;FMTTYPE=image/jpeg:https://trionewinery.com/wp-content/uploads/2024/03/Wine-Corks-e1740613297472.jpg
END:VEVENT
BEGIN:VEVENT
DTSTART;TZID=America/Los_Angeles:20240713T110000
DTEND;TZID=America/Los_Angeles:20240713T133000
DTSTAMP:20260418T104104
CREATED:20240304T182742Z
LAST-MODIFIED:20240304T182742Z
UID:5614-1720868400-1720877400@trionewinery.com
SUMMARY:Summer Winemaker Series | Blending Seminar
DESCRIPTION:Join Trione winemaker John Duckett in this unique behind-the-scenes experience. This session will dig into the art of blending – the most fun aspect of winemaking. Don’t miss this rare opportunity to learn from a master of the craft and deepen your appreciation for the artistry behind every bottle. Book Now
URL:https://trionewinery.com/event/summer-winemaker-series-blending-seminar/
CATEGORIES:Club & Public Events
ATTACH;FMTTYPE=image/jpeg:https://trionewinery.com/wp-content/uploads/2024/03/Wine-Blending-image-e1709576790167.jpg
END:VEVENT
BEGIN:VEVENT
DTSTART;TZID=America/Los_Angeles:20240623T120000
DTEND;TZID=America/Los_Angeles:20240623T143000
DTSTAMP:20260418T104104
CREATED:20240215T211532Z
LAST-MODIFIED:20240618T192952Z
UID:5450-1719144000-1719153000@trionewinery.com
SUMMARY:Blush\, Blanc & Bubbles Bash
DESCRIPTION:Kick off your summer celebrations with our seasonal faves – Rosé\, Sauvignon Blanc and Brut Sparkling! Join us for an afternoon sipping crisp\, cool wines under the warm Alexander Valley sunshine!\n\n \n\nBook Now
URL:https://trionewinery.com/event/blush-bubbles-bash/
CATEGORIES:Club & Public Events
ATTACH;FMTTYPE=image/jpeg:https://trionewinery.com/wp-content/uploads/2024/02/Brunchy-bubbles.jpg
END:VEVENT
BEGIN:VEVENT
DTSTART;TZID=America/Los_Angeles:20240608T110000
DTEND;TZID=America/Los_Angeles:20240608T133000
DTSTAMP:20260418T104104
CREATED:20240304T181044Z
LAST-MODIFIED:20240531T181834Z
UID:5608-1717844400-1717853400@trionewinery.com
SUMMARY:Summer Winemaker Series | Barrel Demonstration
DESCRIPTION:Join Trione winemaker John Duckett in this unique behind-the-scenes experience. This session features Cooperages 1912 with a demonstration on the craft of barrel making\, sourcing and selection. Don’t miss this rare opportunity to learn from a master of the craft and deepen your appreciation for the artistry behind every bottle.\n\nSOLD OUT
URL:https://trionewinery.com/event/summer-winemaker-series-barrel-demonstration/
CATEGORIES:Club & Public Events
ATTACH;FMTTYPE=image/jpeg:https://trionewinery.com/wp-content/uploads/2024/03/IMG_2163-e1709575770527.jpg
END:VEVENT
BEGIN:VEVENT
DTSTART;TZID=America/Los_Angeles:20240519T120000
DTEND;TZID=America/Los_Angeles:20240519T143000
DTSTAMP:20260418T104104
CREATED:20240215T210956Z
LAST-MODIFIED:20240430T230014Z
UID:5446-1716120000-1716129000@trionewinery.com
SUMMARY:Chardonnay Hooray!
DESCRIPTION:Calling all Chardonnay enthusiasts!\nJoin us in celebration of National Chardonnay Day. We will be showcasing the evolution of flavors across multiple vintage years of our River Road Ranch Chardonnay in a curated tasting experience expertly paired with locally sourced gourmet popcorn.\n\nSOLD OUT
URL:https://trionewinery.com/event/chardonnay-hooray/
CATEGORIES:Club & Public Events
ATTACH;FMTTYPE=image/jpeg:https://trionewinery.com/wp-content/uploads/2024/02/Chardonnay-Cheers.jpg
END:VEVENT
END:VCALENDAR