BEGIN:VCALENDAR
VERSION:2.0
PRODID:-//Trione Vineyards and Winery - ECPv6.15.20//NONSGML v1.0//EN
CALSCALE:GREGORIAN
METHOD:PUBLISH
X-ORIGINAL-URL:https://trionewinery.com
X-WR-CALDESC:Events for Trione Vineyards and Winery
REFRESH-INTERVAL;VALUE=DURATION:PT1H
X-Robots-Tag:noindex
X-PUBLISHED-TTL:PT1H
BEGIN:VTIMEZONE
TZID:America/Los_Angeles
BEGIN:DAYLIGHT
TZOFFSETFROM:-0800
TZOFFSETTO:-0700
TZNAME:PDT
DTSTART:20230312T100000
END:DAYLIGHT
BEGIN:STANDARD
TZOFFSETFROM:-0700
TZOFFSETTO:-0800
TZNAME:PST
DTSTART:20231105T090000
END:STANDARD
BEGIN:DAYLIGHT
TZOFFSETFROM:-0800
TZOFFSETTO:-0700
TZNAME:PDT
DTSTART:20240310T100000
END:DAYLIGHT
BEGIN:STANDARD
TZOFFSETFROM:-0700
TZOFFSETTO:-0800
TZNAME:PST
DTSTART:20241103T090000
END:STANDARD
BEGIN:DAYLIGHT
TZOFFSETFROM:-0800
TZOFFSETTO:-0700
TZNAME:PDT
DTSTART:20250309T100000
END:DAYLIGHT
BEGIN:STANDARD
TZOFFSETFROM:-0700
TZOFFSETTO:-0800
TZNAME:PST
DTSTART:20251102T090000
END:STANDARD
END:VTIMEZONE
BEGIN:VEVENT
DTSTART;TZID=America/Los_Angeles:20240519T120000
DTEND;TZID=America/Los_Angeles:20240519T143000
DTSTAMP:20260419T224830
CREATED:20240215T210956Z
LAST-MODIFIED:20240430T230014Z
UID:5446-1716120000-1716129000@trionewinery.com
SUMMARY:Chardonnay Hooray!
DESCRIPTION:Calling all Chardonnay enthusiasts!\nJoin us in celebration of National Chardonnay Day. We will be showcasing the evolution of flavors across multiple vintage years of our River Road Ranch Chardonnay in a curated tasting experience expertly paired with locally sourced gourmet popcorn.\n\nSOLD OUT
URL:https://trionewinery.com/event/chardonnay-hooray/
CATEGORIES:Club & Public Events
ATTACH;FMTTYPE=image/jpeg:https://trionewinery.com/wp-content/uploads/2024/02/Chardonnay-Cheers.jpg
END:VEVENT
BEGIN:VEVENT
DTSTART;TZID=America/Los_Angeles:20240511T120000
DTEND;TZID=America/Los_Angeles:20240511T150000
DTSTAMP:20260419T224830
CREATED:20240215T020840Z
LAST-MODIFIED:20240215T022856Z
UID:5402-1715428800-1715439600@trionewinery.com
SUMMARY:Member Release Party
DESCRIPTION:Join us for an afternoon brunch event celebrating our popular Sauvignon Blanc and Rosé of Pinot Noir releases featured in this month’s wine club selections!\n\nComplimentary for wine club members + two guests.\n\n \n\nRSVP Here
URL:https://trionewinery.com/event/member-release-party-2/
CATEGORIES:Club & Public Events
ATTACH;FMTTYPE=image/jpeg:https://trionewinery.com/wp-content/uploads/2024/02/Rose-glass.jpg
END:VEVENT
BEGIN:VEVENT
DTSTART;TZID=America/Los_Angeles:20240420T180000
DTEND;TZID=America/Los_Angeles:20240420T210000
DTSTAMP:20260419T224830
CREATED:20240215T024157Z
LAST-MODIFIED:20240315T213621Z
UID:5426-1713636000-1713646800@trionewinery.com
SUMMARY:Wine + Food Family Dinner
DESCRIPTION:Join us for a memorable Wine + Food Dinner hosted by two generations of the Trione family.\n\nImmerse yourself in an evening of culinary delight as we partner with a local favorite Diavola Pizzeria. Savor the flavors of an artisanal pizza menu\, expertly crafted to complement the flavor profiles of our wines\, all while enjoying the warm hospitality of our winery owners.\n\nIt’s an experience not to be missed!\n\n \n\nBook Now
URL:https://trionewinery.com/event/wine-food-family-dinner/
CATEGORIES:Wine Dinners
ATTACH;FMTTYPE=image/jpeg:https://trionewinery.com/wp-content/uploads/2024/02/Wintery-Table-scaled-e1707964798118.jpg
END:VEVENT
BEGIN:VEVENT
DTSTART;TZID=America/Los_Angeles:20240309T120000
DTEND;TZID=America/Los_Angeles:20240309T150000
DTSTAMP:20260419T224830
CREATED:20240215T014504Z
LAST-MODIFIED:20240215T024501Z
UID:5396-1709985600-1709996400@trionewinery.com
SUMMARY:Member Release Party
DESCRIPTION:Join us for our first Wine Club Member Release Party of 2024! Indulge in an exclusive tasting of our newly released wines paired with delectable bites.\n\nComplimentary for wine club members + four guests.\n\nRSVP Here
URL:https://trionewinery.com/event/member-release-party/
CATEGORIES:Club & Public Events
ATTACH;FMTTYPE=image/jpeg:https://trionewinery.com/wp-content/uploads/2023/09/Sf-chronicle-photo-2022-scaled-e1707961399944.jpg
END:VEVENT
END:VCALENDAR